BEGIN:VCALENDAR
VERSION:2.0
PRODID:-//Kind en Evangelie - ECPv6.15.20//NONSGML v1.0//EN
CALSCALE:GREGORIAN
METHOD:PUBLISH
X-WR-CALNAME:Kind en Evangelie
X-ORIGINAL-URL:https://kindenevangelie.nl
X-WR-CALDESC:Evenementen voor Kind en Evangelie
REFRESH-INTERVAL;VALUE=DURATION:PT1H
X-Robots-Tag:noindex
X-PUBLISHED-TTL:PT1H
BEGIN:VTIMEZONE
TZID:Europe/Amsterdam
BEGIN:DAYLIGHT
TZOFFSETFROM:+0100
TZOFFSETTO:+0200
TZNAME:CEST
DTSTART:20240331T010000
END:DAYLIGHT
BEGIN:STANDARD
TZOFFSETFROM:+0200
TZOFFSETTO:+0100
TZNAME:CET
DTSTART:20241027T010000
END:STANDARD
BEGIN:DAYLIGHT
TZOFFSETFROM:+0100
TZOFFSETTO:+0200
TZNAME:CEST
DTSTART:20250330T010000
END:DAYLIGHT
BEGIN:STANDARD
TZOFFSETFROM:+0200
TZOFFSETTO:+0100
TZNAME:CET
DTSTART:20251026T010000
END:STANDARD
BEGIN:DAYLIGHT
TZOFFSETFROM:+0100
TZOFFSETTO:+0200
TZNAME:CEST
DTSTART:20260329T010000
END:DAYLIGHT
BEGIN:STANDARD
TZOFFSETFROM:+0200
TZOFFSETTO:+0100
TZNAME:CET
DTSTART:20261025T010000
END:STANDARD
END:VTIMEZONE
BEGIN:VEVENT
DTSTART;VALUE=DATE:20251219
DTEND;VALUE=DATE:20251221
DTSTAMP:20260421T120113
CREATED:20250701T094207Z
LAST-MODIFIED:20251106T121937Z
UID:1663-1766106000-1766192399@kindenevangelie.nl
SUMMARY:Wat een wonder!
DESCRIPTION:De Heere Jezus kwam als Zoon van God naar de aarde; wat een wonder! In de Bijbel lezen we dat Jezus ook veel wonderen heeft gedaan. Luister naar de vertelling en zing mee. \nBestel het doeboek in de webshop. De link naar het programma zal begin november hier gedeeld worden.
URL:https://kindenevangelie.nl/event/wat-een-wonder/
CATEGORIES:Online kinderprogramma
ATTACH;FMTTYPE=image/jpeg:https://kindenevangelie.nl/wp-content/uploads/2024/10/Foto-Pesach-2024-voor-flyer.jpeg
END:VEVENT
END:VCALENDAR